BEGIN:VCALENDAR
VERSION:2.0
PRODID:-//Tukios.com/
BEGIN:VEVENT
UID:f62ade44-7e65-49e5-ac48-a155454b8338@www.thompsonfuneralhomedetroit.com
DTSTAMP:20260423T025330Z
DTSTART:20260502T180000Z
DTEND:20260502T190000Z
SUMMARY:Funeral Service
DESCRIPTION:
URL:https://www.thompsonfuneralhomedetroit.com/obituaries/tvo-robinson
LOCATION:Second Ebenezer Church 14601 Dequindre St  Detroit MI 48212
GEO:42.4165771;-83.0840264
END:VEVENT
END:VCALENDAR